BEGIN:VCALENDAR
VERSION:2.0
PRODID:spatie/icalendar-generator
DESCRIPTION:Events from Millennia Atlantic University
X-WR-CALDESC:Events from Millennia Atlantic University
REFRESH-INTERVAL;VALUE=DURATION:PT1440M
X-PUBLISHED-TTL:PT1440M
BEGIN:VTIMEZONE
TZID:Etc/GMT+0
BEGIN:STANDARD
DTSTART:20250702T000000Z
TZOFFSETFROM:+0000
TZOFFSETTO:+0000
END:STANDARD
END:VTIMEZONE
BEGIN:VTIMEZONE
TZID:UTC
BEGIN:STANDARD
DTSTART:20250726T142905Z
TZOFFSETFROM:+0000
TZOFFSETTO:+0000
END:STANDARD
END:VTIMEZONE
BEGIN:VEVENT
UID:1069-1035
DTSTAMP:20260422T142905Z
SUMMARY:Spring Break (No Classes)
LOCATION:
ORGANIZER;CN=Federico Blank:MAILTO:federicoblank@gmail.com
DTSTART;TZID=Etc/GMT+0;VALUE=DATE:20260329
DTEND;TZID=Etc/GMT+0;VALUE=DATE:20260406
X-ALT-DESC;FMTTYPE=TEXT/HTML:
CATEGORIES:Student Services
URL;VALUE=URI:https://maufl.edu/mc-events/spring-break-no-classes/
METHOD:PUBLISH
END:VEVENT
END:VCALENDAR