BEGIN:VCALENDAR
VERSION:2.0
PRODID:spatie/icalendar-generator
DESCRIPTION:Events from Millennia Atlantic University
X-WR-CALDESC:Events from Millennia Atlantic University
REFRESH-INTERVAL;VALUE=DURATION:PT1440M
X-PUBLISHED-TTL:PT1440M
BEGIN:VTIMEZONE
TZID:Etc/GMT+0
BEGIN:STANDARD
DTSTART:20250703T190000Z
TZOFFSETFROM:+0000
TZOFFSETTO:+0000
END:STANDARD
END:VTIMEZONE
BEGIN:VTIMEZONE
TZID:UTC
BEGIN:STANDARD
DTSTART:20250726T143932Z
TZOFFSETFROM:+0000
TZOFFSETTO:+0000
END:STANDARD
END:VTIMEZONE
BEGIN:VEVENT
UID:1108-1055
DTSTAMP:20260422T143932Z
SUMMARY:Miami Heat vs. Philadelphia Game
LOCATION:
ORGANIZER;CN=Nathalie Betancourt:MAILTO:nbetancourt@admin.maufl.edu
DTSTART;TZID=Etc/GMT+0:20260330T190000
DTEND;TZID=Etc/GMT+0:20260330T200000
X-ALT-DESC;FMTTYPE=TEXT/HTML:Miami Heat vs. Philadelphia Game 7:00 PM – 1
 0:00 PM (Students to confirm attendance for Tickets)
CATEGORIES:Events
URL;VALUE=URI:https://maufl.edu/mc-events/miami-heat-vs-philadelphia-game/
METHOD:PUBLISH
END:VEVENT
END:VCALENDAR